BEGIN:VCALENDAR
VERSION:2.0
PRODID:-//welante.ch////DE 25.04.2026 18:34
METHOD:PUBLISH
BEGIN:VTIMEZONE
TZID:Europe/Zurich
X-LIC-LOCATION:Europe/Zurich
BEGIN:STANDARD
DTSTART:16011028T030000
RRULE:FREQ=YEARLY;BYDAY=-1SU;BYMONTH=10
TZOFFSETFROM:+0200
TZOFFSETTO:+0100
END:STANDARD
BEGIN:DAYLIGHT
DTSTART:16010325T020000
RRULE:FREQ=YEARLY;BYDAY=-1SU;BYMONTH=3
TZOFFSETFROM:+0100
TZOFFSETTO:+0200
END:DAYLIGHT
END:VTIMEZONE
BEGIN:VEVENT
CLASS:PUBLIC
UID:8abc8b2a7911446a8353dc10ab73332e
DTSTAMP:20260324T103514Z
DTSTART;TZID=Europe/Zurich:20260415T170000
DTEND;TZID=Europe/Zurich:20260415T190000
LOCATION:Berufsschule Bülach
DESCRIPTION:Mit: Weidmann Alexandra\n\nTermine:\n15.04.2026 17:00\n20.05.2026 17:00\n17.06.2026 17:00\n08.07.2026 17:00
URL;VALUE=URI:
SUMMARY:26S-512 Regelmässiges Gedächtnistraining / Kurs C
LAST-MODIFIED:20260324T093514Z
RRULE:FREQ=WEEKLY;UNTIL=20260708T170000Z;WKST=SU;BYDAY=WE
EXDATE;TZID=Europe/Zurich:20260422T150000Z,20260429T150000Z,20260506T150000Z,20260513T150000Z,20260527T150000Z,20260603T150000Z,20260610T150000Z,20260624T150000Z,20260701T150000Z
END:VEVENT
END:VCALENDAR